BEGIN:VCALENDAR
VERSION:2.0
PRODID:-//Sequoyah School - ECPv6.15.20//NONSGML v1.0//EN
CALSCALE:GREGORIAN
METHOD:PUBLISH
X-WR-CALNAME:Sequoyah School
X-ORIGINAL-URL:https://sequoyahschool.org
X-WR-CALDESC:Events for Sequoyah School
REFRESH-INTERVAL;VALUE=DURATION:PT1H
X-Robots-Tag:noindex
X-PUBLISHED-TTL:PT1H
BEGIN:VTIMEZONE
TZID:America/Los_Angeles
BEGIN:DAYLIGHT
TZOFFSETFROM:-0800
TZOFFSETTO:-0700
TZNAME:PDT
DTSTART:20250309T100000
END:DAYLIGHT
BEGIN:STANDARD
TZOFFSETFROM:-0700
TZOFFSETTO:-0800
TZNAME:PST
DTSTART:20251102T090000
END:STANDARD
BEGIN:DAYLIGHT
TZOFFSETFROM:-0800
TZOFFSETTO:-0700
TZNAME:PDT
DTSTART:20260308T100000
END:DAYLIGHT
BEGIN:STANDARD
TZOFFSETFROM:-0700
TZOFFSETTO:-0800
TZNAME:PST
DTSTART:20261101T090000
END:STANDARD
BEGIN:DAYLIGHT
TZOFFSETFROM:-0800
TZOFFSETTO:-0700
TZNAME:PDT
DTSTART:20270314T100000
END:DAYLIGHT
BEGIN:STANDARD
TZOFFSETFROM:-0700
TZOFFSETTO:-0800
TZNAME:PST
DTSTART:20271107T090000
END:STANDARD
END:VTIMEZONE
BEGIN:VEVENT
DTSTART;TZID=America/Los_Angeles:20260501T183000
DTEND;TZID=America/Los_Angeles:20260501T203000
DTSTAMP:20260419T231519
CREATED:20260209T223621Z
LAST-MODIFIED:20260209T223621Z
UID:14917-1777660200-1777667400@sequoyahschool.org
SUMMARY:High School Exhibition Night
DESCRIPTION:
URL:https://sequoyahschool.org/event/high-school-exhibition-night/
LOCATION:High School Campus\, 301 N Orange Grove Boulevard\, Pasadena\, 91103\, United States
CATEGORIES:Alum Events
END:VEVENT
BEGIN:VEVENT
DTSTART;TZID=America/Los_Angeles:20260528T085000
DTEND;TZID=America/Los_Angeles:20260528T103000
DTSTAMP:20260419T231519
CREATED:20260209T223738Z
LAST-MODIFIED:20260209T223738Z
UID:14919-1779958200-1779964200@sequoyahschool.org
SUMMARY:Board of Trustees & Alum Visit to Talking Leaves
DESCRIPTION:Followed by coffee and baked goods in the courtyard!
URL:https://sequoyahschool.org/event/board-of-trustees-alum-visit-to-talking-leaves/
LOCATION:High School Campus\, 301 N Orange Grove Boulevard\, Pasadena\, 91103\, United States
CATEGORIES:Alum Events
END:VEVENT
END:VCALENDAR