BEGIN:VCALENDAR
VERSION:2.0
PRODID:-//Sequoyah School - ECPv6.15.20//NONSGML v1.0//EN
CALSCALE:GREGORIAN
METHOD:PUBLISH
X-ORIGINAL-URL:https://sequoyahschool.org
X-WR-CALDESC:Events for Sequoyah School
REFRESH-INTERVAL;VALUE=DURATION:PT1H
X-Robots-Tag:noindex
X-PUBLISHED-TTL:PT1H
BEGIN:VTIMEZONE
TZID:America/Los_Angeles
BEGIN:DAYLIGHT
TZOFFSETFROM:-0800
TZOFFSETTO:-0700
TZNAME:PDT
DTSTART:20230312T100000
END:DAYLIGHT
BEGIN:STANDARD
TZOFFSETFROM:-0700
TZOFFSETTO:-0800
TZNAME:PST
DTSTART:20231105T090000
END:STANDARD
BEGIN:DAYLIGHT
TZOFFSETFROM:-0800
TZOFFSETTO:-0700
TZNAME:PDT
DTSTART:20240310T100000
END:DAYLIGHT
BEGIN:STANDARD
TZOFFSETFROM:-0700
TZOFFSETTO:-0800
TZNAME:PST
DTSTART:20241103T090000
END:STANDARD
BEGIN:DAYLIGHT
TZOFFSETFROM:-0800
TZOFFSETTO:-0700
TZNAME:PDT
DTSTART:20250309T100000
END:DAYLIGHT
BEGIN:STANDARD
TZOFFSETFROM:-0700
TZOFFSETTO:-0800
TZNAME:PST
DTSTART:20251102T090000
END:STANDARD
BEGIN:DAYLIGHT
TZOFFSETFROM:-0800
TZOFFSETTO:-0700
TZNAME:PDT
DTSTART:20260308T100000
END:DAYLIGHT
BEGIN:STANDARD
TZOFFSETFROM:-0700
TZOFFSETTO:-0800
TZNAME:PST
DTSTART:20261101T090000
END:STANDARD
END:VTIMEZONE
BEGIN:VEVENT
DTSTART;TZID=America/Los_Angeles:20251119T180000
DTEND;TZID=America/Los_Angeles:20251119T190000
DTSTAMP:20260422T031653
CREATED:20250822T191755Z
LAST-MODIFIED:20251008T214620Z
UID:14147-1763575200-1763578800@sequoyahschool.org
SUMMARY:STEM at Sequoyah
DESCRIPTION:« All Events \nK-12 Prospective Families of Color Coffee\nJanuary 23\n@\n9:00 am\n–\n10:00 am \nProspective K-12 families of color are invited to join members of the Sequoyah community at an informal coffee on our K-8 campus. \n  \n\n\nAdd to calendar \n  \n\nGoogle Calendar\niCalendar\nOutlook 365\nOutlook Live\n\n\n\n\nK-8 Information Session and Tour \n\nK-12 Parent Perspectives Panel – Online
URL:https://sequoyahschool.org/event/stem-sequoyah/
CATEGORIES:Admissions Events,Gryphons Rising,High School Admissions Events,K-8 Admissions Events,Virtual Events
ORGANIZER;CN="Carolyn Stirling (K-8)":MAILTO:k-8admissions@sequoyahschool.org
END:VEVENT
BEGIN:VEVENT
DTSTART;TZID=America/Los_Angeles:20251118T090000
DTEND;TZID=America/Los_Angeles:20251118T103000
DTSTAMP:20260422T031653
CREATED:20240926T173413Z
LAST-MODIFIED:20251008T184936Z
UID:8509-1763456400-1763461800@sequoyahschool.org
SUMMARY:High School Information Session and Tour
DESCRIPTION:« All Events\n \n\n	High School Information Session and Tour\n			November 18\n	  @\n9:00 am\n	  –\n10:30 am\n					\n				\n					\n\n	\n	Add to calendar	\n		\n	\n \n\n\n	Google Calendar\n\n\n	iCalendar\n\n\n	Outlook 365\n\n\n	Outlook Live\n\n\n\n	High School Campus\n\n301 N Orange Grove Boulevard\n		\n		Pasadena\,\n	91103\n	United States\n\n\n	+ Google Map \n\n					\n						\n	 \n\n\n \n\n\n\n\n				K-8 Information Session and Tour	\n\n\n	\n		STEM at Sequoyah
URL:https://sequoyahschool.org/event/2025-11-18-high-school-information-session/
LOCATION:High School Campus\, 301 N Orange Grove Boulevard\, Pasadena\, 91103\, United States
CATEGORIES:Admissions Events,Gryphons Rising,High School Admissions Events,In-Person Events
ORGANIZER;CN="Carolyn Stirling (HS)":MAILTO:9-12admissions@sequoyahschool.org
END:VEVENT
BEGIN:VEVENT
DTSTART;TZID=America/Los_Angeles:20251113T090000
DTEND;TZID=America/Los_Angeles:20251113T103000
DTSTAMP:20260422T031653
CREATED:20240710T224312Z
LAST-MODIFIED:20251008T184936Z
UID:6263-1763024400-1763029800@sequoyahschool.org
SUMMARY:K-8 Information Session and Tour
DESCRIPTION:« All Events\n \n\n	K-8 Information Session and Tour\n			November 13\n	  @\n9:00 am\n	  –\n10:30 am\n					\n				\n					\n\n	\n	Add to calendar	\n		\n	\n \n\n\n	Google Calendar\n\n\n	iCalendar\n\n\n	Outlook 365\n\n\n	Outlook Live\n\n\n\n	K-8 Campus\n\n535 S Pasadena Avenue\n		\n		Pasadena\,\n	CA\n	91105\n	United States\n\n\n	+ Google Map \n\n					\n			(626) 795-4351			\n	 \n\n	View Venue Website \n\n \n\n\n\n\n				Parent Perspectives	\n\n\n	\n		High School Information Session and Tour
URL:https://sequoyahschool.org/event/2025-11-13-k8-information-session/
LOCATION:K-8 Campus\, 535 S Pasadena Avenue\, Pasadena\, CA\, 91105\, United States
CATEGORIES:Admissions Events,In-Person Events,K-8 Admissions Events
END:VEVENT
BEGIN:VEVENT
DTSTART;TZID=America/Los_Angeles:20251111T180000
DTEND;TZID=America/Los_Angeles:20251111T190000
DTSTAMP:20260422T031653
CREATED:20240926T175300Z
LAST-MODIFIED:20251022T152346Z
UID:8517-1762884000-1762887600@sequoyahschool.org
SUMMARY:Parent Perspectives
DESCRIPTION:« All Events \nK-12 Parent Perspectives Panel – Online\nJanuary 29\n@\n6:00 pm\n–\n7:00 pm \nJoin us on Zoom to hear from parents about their experience in our community and their perspectives on how a Sequoyah education has supported the growth and development of their children. \nLink will be sent to registrants in advance of this event. \n  \n\n\nAdd to calendar \n  \n\nGoogle Calendar\niCalendar\nOutlook 365\nOutlook Live\n\n\n\n\nK-12 Prospective Families of Color Coffee \n\nHigh School Student Panel
URL:https://sequoyahschool.org/event/2025-11-11-parent-perspectives/
CATEGORIES:Admissions Events,Gryphons Rising,High School Admissions Events,K-8 Admissions Events,Virtual Events
ORGANIZER;CN="Carolyn Stirling (K-8)":MAILTO:k-8admissions@sequoyahschool.org
END:VEVENT
BEGIN:VEVENT
DTSTART;TZID=America/Los_Angeles:20251104T180000
DTEND;TZID=America/Los_Angeles:20251104T190000
DTSTAMP:20260422T031653
CREATED:20240926T173044Z
LAST-MODIFIED:20251008T185057Z
UID:8507-1762279200-1762282800@sequoyahschool.org
SUMMARY:Affording a Sequoyah Education
DESCRIPTION:« All Events \nAffording a Sequoyah Education\nNovember 12\n@\n6:00 pm\n–\n7:00 pm \nJoin us on Zoom to learn about Sequoyah’s Indexed Tuition program\, which allows families to pay a tuition level based on financial means. \nWe dedicate a significant portion of operating revenue to support indexed tuition\, with 30 to 40 percent of our families paying less than the maximum tuition level. \nLink will be sent to registrants in advance of this webinar. \n  \n\n\nAdd to calendar \n  \n\nGoogle Calendar\niCalendar\nOutlook 365\nOutlook Live\n\n\n\n\nApplication Process Q&A \n\nK-8 Information Session and Tour
URL:https://sequoyahschool.org/event/2025-11-04-affording-sequoyah-education/
CATEGORIES:Admissions Events,Gryphons Rising,High School Admissions Events,K-8 Admissions Events,Virtual Events
ORGANIZER;CN="Carolyn Stirling (K-8)":MAILTO:k-8admissions@sequoyahschool.org
END:VEVENT
BEGIN:VEVENT
DTSTART;TZID=America/Los_Angeles:20251025T150000
DTEND;TZID=America/Los_Angeles:20251025T170000
DTSTAMP:20260422T031653
CREATED:20240926T173808Z
LAST-MODIFIED:20251008T184936Z
UID:8511-1761404400-1761411600@sequoyahschool.org
SUMMARY:High School Open House
DESCRIPTION:« All Events \nHigh School Open House\nNovember 18\n@\n6:00 pm\n–\n8:00 pm \nOur annual open house offers a deep dive into Sequoyah’s high school program. This special event is designed for prospective students and families to experience what it would be like to be a Sequoyah Gryphon. \nParticipate in sample classes\, learn about our unique modular schedule and curriculum\, and meet our students as they share their educational experience. \nThis event is only offered once a year\, so be sure to register to attend! \n\n\nAdd to calendar \n  \n\nGoogle Calendar\niCalendar\nOutlook 365\nOutlook Live\n\nHigh School Campus\n301 N Orange Grove BoulevardPasadena\,\n91103\nUnited States\n+ Google Map \n  \n\n \n\n\n\nK-8 Information Session and Tour \n\nK-8 Faculty Panel
URL:https://sequoyahschool.org/event/2025-high-school-open-house/
LOCATION:High School Campus\, 301 N Orange Grove Boulevard\, Pasadena\, 91103\, United States
CATEGORIES:Admissions Events,Gryphons Rising,High School Admissions Events,In-Person Events
ORGANIZER;CN="Carolyn Stirling (HS)":MAILTO:9-12admissions@sequoyahschool.org
END:VEVENT
BEGIN:VEVENT
DTSTART;TZID=America/Los_Angeles:20251024T183000
DTEND;TZID=America/Los_Angeles:20251024T210000
DTSTAMP:20260422T031653
CREATED:20250620T175516Z
LAST-MODIFIED:20250702T182925Z
UID:13762-1761330600-1761339600@sequoyahschool.org
SUMMARY:Alum Parent Reunion
DESCRIPTION:Join us for appetizers\, drinks\, and community!
URL:https://sequoyahschool.org/event/alum-parent-reunion-party/
CATEGORIES:Alum Events
ORGANIZER;CN="Sarah Gossage":MAILTO:sgossage@sequoyahschool.org
END:VEVENT
BEGIN:VEVENT
DTSTART;TZID=America/Los_Angeles:20251024T183000
DTEND;TZID=America/Los_Angeles:20251024T193000
DTSTAMP:20260422T031653
CREATED:20250620T175430Z
LAST-MODIFIED:20250702T183032Z
UID:13756-1761330600-1761334200@sequoyahschool.org
SUMMARY:Laughter and Hugs on the Patio
DESCRIPTION:Special Note: Class of 2025 parents are invited for this hour to help make care packages for the Class of 2025. \n* If you are unable to attend\, your student will still receive their package.
URL:https://sequoyahschool.org/event/coffee-hugs-care-package-making/
LOCATION:K-8 Campus\, 535 S Pasadena Avenue\, Pasadena\, CA\, 91105\, United States
CATEGORIES:Alum Events
ORGANIZER;CN="Sarah Gossage":MAILTO:sgossage@sequoyahschool.org
END:VEVENT
BEGIN:VEVENT
DTSTART;TZID=America/Los_Angeles:20251023T090000
DTEND;TZID=America/Los_Angeles:20251023T103000
DTSTAMP:20260422T031653
CREATED:20240926T172423Z
LAST-MODIFIED:20251008T184936Z
UID:8503-1761210000-1761215400@sequoyahschool.org
SUMMARY:Kindergarten Information Session and Tour
DESCRIPTION:« All Events\n \n\n	Kindergarten Information Session and Tour\n			October 23\n	  @\n9:00 am\n	  –\n10:30 am\n					\n				\n					\n\n	\n	Add to calendar	\n		\n	\n \n\n\n	Google Calendar\n\n\n	iCalendar\n\n\n	Outlook 365\n\n\n	Outlook Live\n\n\n\n\n\n\n				Athletics at Sequoyah	\n\n\n	\n		Laughter and Hugs on the Patio
URL:https://sequoyahschool.org/event/2025-10-23-kindergarten-information-session-tour/
CATEGORIES:Admissions Events,In-Person Events,K-8 Admissions Events
ORGANIZER;CN="Carolyn Stirling (K-8)":MAILTO:k-8admissions@sequoyahschool.org
END:VEVENT
BEGIN:VEVENT
DTSTART;TZID=America/Los_Angeles:20251020T180000
DTEND;TZID=America/Los_Angeles:20251020T190000
DTSTAMP:20260422T031653
CREATED:20250822T192210Z
LAST-MODIFIED:20251008T214636Z
UID:14152-1760983200-1760986800@sequoyahschool.org
SUMMARY:Athletics at Sequoyah
DESCRIPTION:« All Events \nSTEM at Sequoyah\nNovember 19\n@\n6:00 pm\n–\n7:00 pm \n\n\nAdd to calendar \n  \n\nGoogle Calendar\niCalendar\nOutlook 365\nOutlook Live\n\nK-8 Campus\n535 S Pasadena AvenuePasadena\,\nCA\n91105\nUnited States \n\n+ Google Map \n\n(626) 795-4351  \nView Venue Website \n\n \n\n\n\nHigh School Information Session and Tour \n\nK-8 Information Session and Tour
URL:https://sequoyahschool.org/event/sequoyah-athletics/
CATEGORIES:Admissions Events,Gryphons Rising,High School Admissions Events,K-8 Admissions Events,Virtual Events
ORGANIZER;CN="Carolyn Stirling (K-8)":MAILTO:k-8admissions@sequoyahschool.org
END:VEVENT
BEGIN:VEVENT
DTSTART;TZID=America/Los_Angeles:20251008T180000
DTEND;TZID=America/Los_Angeles:20251008T190000
DTSTAMP:20260422T031653
CREATED:20250822T192526Z
LAST-MODIFIED:20251008T214649Z
UID:14157-1759946400-1759950000@sequoyahschool.org
SUMMARY:A Better Approach to College-Readiness and Beyond
DESCRIPTION:« All Events \nSTEM at Sequoyah\nNovember 19\n@\n6:00 pm\n–\n7:00 pm \n\n\nAdd to calendar \n  \n\nGoogle Calendar\niCalendar\nOutlook 365\nOutlook Live\n\nK-8 Campus\n535 S Pasadena AvenuePasadena\,\nCA\n91105\nUnited States\n+ Google Map \n\n(626) 795-4351  \nView Venue Website \n\n \n\n\n\nHigh School Information Session and Tour \n\nK-8 Information Session and Tour
URL:https://sequoyahschool.org/event/college-readiness-the-sequoyah-way-mastery-agency-and-mentorship/
CATEGORIES:Admissions Events,Gryphons Rising,High School Admissions Events,K-8 Admissions Events,Virtual Events
ORGANIZER;CN="Carolyn Stirling (K-8)":MAILTO:k-8admissions@sequoyahschool.org
END:VEVENT
BEGIN:VEVENT
DTSTART;TZID=America/Los_Angeles:20250924T090000
DTEND;TZID=America/Los_Angeles:20250924T103000
DTSTAMP:20260422T031653
CREATED:20240926T173256Z
LAST-MODIFIED:20251008T184937Z
UID:8508-1758704400-1758709800@sequoyahschool.org
SUMMARY:High School Information Session and Tour
DESCRIPTION:« All Events\n \n\n	High School Information Session and Tour\n			September 24\n	  @\n9:00 am\n	  –\n10:30 am\n					\n				\n					\n\n	\n	Add to calendar	\n		\n	\n \n\n\n	Google Calendar\n\n\n	iCalendar\n\n\n	Outlook 365\n\n\n	Outlook Live\n\n\n\n	High School Campus\n\n301 N Orange Grove Boulevard\n		\n		Pasadena\,\n	91103\n	United States\n\n\n	+ Google Map \n\n					\n						\n	 \n\n\n \n\n\n\n\n				Kindergarten Information Session and Tour	\n\n\n	\n		College-Readiness the Sequoyah Way: Mastery\, Agency\, and Mentorship
URL:https://sequoyahschool.org/event/2025-09-24-high-school-information-session/
LOCATION:High School Campus\, 301 N Orange Grove Boulevard\, Pasadena\, 91103\, United States
CATEGORIES:Admissions Events,High School Admissions Events,In-Person Events
ORGANIZER;CN="Carolyn Stirling (HS)":MAILTO:9-12admissions@sequoyahschool.org
END:VEVENT
BEGIN:VEVENT
DTSTART;TZID=America/Los_Angeles:20250918T090000
DTEND;TZID=America/Los_Angeles:20250918T103000
DTSTAMP:20260422T031653
CREATED:20240829T170107Z
LAST-MODIFIED:20251008T184937Z
UID:8390-1758186000-1758191400@sequoyahschool.org
SUMMARY:Kindergarten Information Session and Tour
DESCRIPTION:« All Events\n \n\n	Kindergarten Information Session and Tour\n			September 18\n	  @\n9:00 am\n	  –\n10:30 am\n					\n				\n					\n\n	\n	Add to calendar	\n		\n	\n \n\n\n	Google Calendar\n\n\n	iCalendar\n\n\n	Outlook 365\n\n\n	Outlook Live\n\n\n\n	K-8 Campus\n\n535 S Pasadena Avenue\n		\n		Pasadena\,\n	CA\n	91105\n	United States\n\n\n	+ Google Map \n\n					\n			(626) 795-4351			\n	 \n\n	View Venue Website \n\n \n\n\n\n\n				High School Student Panel	\n\n\n	\n		High School Information Session and Tour
URL:https://sequoyahschool.org/event/2025-09-18-kindergarten-information-session-tour/
LOCATION:K-8 Campus\, 535 S Pasadena Avenue\, Pasadena\, CA\, 91105\, United States
CATEGORIES:Admissions Events,In-Person Events,K-8 Admissions Events
ORGANIZER;CN="Carolyn Stirling (K-8)":MAILTO:k-8admissions@sequoyahschool.org
END:VEVENT
BEGIN:VEVENT
DTSTART;TZID=America/Los_Angeles:20250204T180000
DTEND;TZID=America/Los_Angeles:20250204T190000
DTSTAMP:20260422T031653
CREATED:20240926T175911Z
LAST-MODIFIED:20240926T182400Z
UID:8518-1738692000-1738695600@sequoyahschool.org
SUMMARY:High School Student Panel
DESCRIPTION:« All Events\n \n\n	High School Student Panel\n			February 4\n	  @\n6:00 pm\n	  –\n7:00 pm \nGet to know Sequoyah’s high school through the experiences of our students at this online event. \nLink will be sent to registrants in advance of the event. \n			\n				\n					\n\n	\n	Add to calendar	\n		\n	\n \n\n\n	Google Calendar\n\n\n	iCalendar\n\n\n	Outlook 365\n\n\n	Outlook Live\n\n\n\n\n\n\n				K-12 Parent Perspectives Panel – Online
URL:https://sequoyahschool.org/event/2025-02-04-high-school-student-panel/
CATEGORIES:Admissions Events,High School Admissions Events
ORGANIZER;CN="Carolyn Stirling (HS)":MAILTO:9-12admissions@sequoyahschool.org
END:VEVENT
BEGIN:VEVENT
DTSTART;TZID=America/Los_Angeles:20250123T090000
DTEND;TZID=America/Los_Angeles:20250123T223000
DTSTAMP:20260422T031653
CREATED:20240926T172704Z
LAST-MODIFIED:20250820T201354Z
UID:8506-1737622800-1737671400@sequoyahschool.org
SUMMARY:K-8 Information Session and Tour
DESCRIPTION:« All Events \nK-8 Information Session and Tour\nJanuary 16\n@\n9:00 am\n–\n10:30 pm \nVisit Sequoyah’s K-8 to learn about our curriculum\, meet faculty\, hear from students\, and take a tour of campus. \nDue to limited space\, information sessions are for parents/guardians of applicants applying for Fall 2025 admission and are designed for adults only. We respectfully ask that children not attend this event so that we can accommodate all parents/guardians. \nNote: Kindergarten applicant parents should attend an information session before their admissions interview. \n  \n\n\nAdd to calendar \n  \n\nGoogle Calendar\niCalendar\nOutlook 365\nOutlook Live\n\nK-8 Campus\n535 S Pasadena AvenuePasadena\,\nCA\n91105\nUnited States\n+ Google Map \n\n(626) 795-4351  \nView Venue Website \n\n \n\n\n\nHigh School Information Session and Tour \n\nK-12 Prospective Families of Color Coffee
URL:https://sequoyahschool.org/event/2026-01-15-k8-information-session/
LOCATION:K-8 Campus\, 535 S Pasadena Avenue\, Pasadena\, CA\, 91105\, United States
CATEGORIES:Admissions Events,K-8 Admissions Events
ORGANIZER;CN="Carolyn Stirling (K-8)":MAILTO:k-8admissions@sequoyahschool.org
END:VEVENT
BEGIN:VEVENT
DTSTART;TZID=America/Los_Angeles:20241121T180000
DTEND;TZID=America/Los_Angeles:20241121T190000
DTSTAMP:20260422T031653
CREATED:20240926T174241Z
LAST-MODIFIED:20240926T183333Z
UID:8513-1732212000-1732215600@sequoyahschool.org
SUMMARY:K-8 Faculty Panel
DESCRIPTION:« All Events\n \n\n	K-8 Faculty Panel\n			November 21\n	  @\n6:00 pm\n	  –\n7:00 pm \nGet to know some of our K-8 faculty and hear about our curriculum at this informative online panel. \nA Zoom link will be sent to registrants in advance of the event.\n			\n				\n					\n\n	\n	Add to calendar	\n		\n	\n \n\n\n	Google Calendar\n\n\n	iCalendar\n\n\n	Outlook 365\n\n\n	Outlook Live\n\n\n\n\n\n\n				High School Open House	\n\n\n	\n		High School Information Session and Tour
URL:https://sequoyahschool.org/event/2024-11-21-faculty-panel/
CATEGORIES:Admissions Events,K-8 Admissions Events
ORGANIZER;CN="Carolyn Stirling (K-8)":MAILTO:k-8admissions@sequoyahschool.org
END:VEVENT
BEGIN:VEVENT
DTSTART;TZID=America/Los_Angeles:20241108T120000
DTEND;TZID=America/Los_Angeles:20241108T130000
DTSTAMP:20260422T031653
CREATED:20240829T170223Z
LAST-MODIFIED:20241017T224133Z
UID:8391-1731067200-1731070800@sequoyahschool.org
SUMMARY:Application Process Q&A
DESCRIPTION:« All Events \nApplication Process Q&A\nNovember 8\n@\n12:00 pm\n–\n1:00 pm \nHave questions about our application process? Join our Director of Admissions live on Zoom to ask questions about applying to Sequoyah School. \nLink will be sent to registrants in advance of this Zoom.\n \n\n\n\nAdd to calendar \n \n\nGoogle Calendar\niCalendar\nOutlook 365\nOutlook Live\n\n\n\n\nK-8 Information Session and Tour \n\nAffording a Sequoyah Education
URL:https://sequoyahschool.org/event/2024-fall-application-process-qa/
CATEGORIES:Admissions Events,High School Admissions Events,K-8 Admissions Events
ORGANIZER;CN="Carolyn Stirling (K-8)":MAILTO:k-8admissions@sequoyahschool.org
END:VEVENT
END:VCALENDAR