BEGIN:VCALENDAR
VERSION:2.0
PRODID:-//Sequoyah School - ECPv6.15.20//NONSGML v1.0//EN
CALSCALE:GREGORIAN
METHOD:PUBLISH
X-WR-CALNAME:Sequoyah School
X-ORIGINAL-URL:https://sequoyahschool.org
X-WR-CALDESC:Events for Sequoyah School
REFRESH-INTERVAL;VALUE=DURATION:PT1H
X-Robots-Tag:noindex
X-PUBLISHED-TTL:PT1H
BEGIN:VTIMEZONE
TZID:America/Los_Angeles
BEGIN:DAYLIGHT
TZOFFSETFROM:-0800
TZOFFSETTO:-0700
TZNAME:PDT
DTSTART:20230312T100000
END:DAYLIGHT
BEGIN:STANDARD
TZOFFSETFROM:-0700
TZOFFSETTO:-0800
TZNAME:PST
DTSTART:20231105T090000
END:STANDARD
BEGIN:DAYLIGHT
TZOFFSETFROM:-0800
TZOFFSETTO:-0700
TZNAME:PDT
DTSTART:20240310T100000
END:DAYLIGHT
BEGIN:STANDARD
TZOFFSETFROM:-0700
TZOFFSETTO:-0800
TZNAME:PST
DTSTART:20241103T090000
END:STANDARD
BEGIN:DAYLIGHT
TZOFFSETFROM:-0800
TZOFFSETTO:-0700
TZNAME:PDT
DTSTART:20250309T100000
END:DAYLIGHT
BEGIN:STANDARD
TZOFFSETFROM:-0700
TZOFFSETTO:-0800
TZNAME:PST
DTSTART:20251102T090000
END:STANDARD
BEGIN:DAYLIGHT
TZOFFSETFROM:-0800
TZOFFSETTO:-0700
TZNAME:PDT
DTSTART:20260308T100000
END:DAYLIGHT
BEGIN:STANDARD
TZOFFSETFROM:-0700
TZOFFSETTO:-0800
TZNAME:PST
DTSTART:20261101T090000
END:STANDARD
END:VTIMEZONE
BEGIN:VEVENT
DTSTART;TZID=America/Los_Angeles:20250918T090000
DTEND;TZID=America/Los_Angeles:20250918T103000
DTSTAMP:20260422T043456
CREATED:20240829T170107Z
LAST-MODIFIED:20251008T184937Z
UID:8390-1758186000-1758191400@sequoyahschool.org
SUMMARY:Kindergarten Information Session and Tour
DESCRIPTION:« All Events\n 				\n				\n				\n				\n					This event has passed. \n				\n				\n				\n				\n					\n	High School Open House				\n				\n				\n				\n							\n			\n						\n		\n						\n				\n				\n				\n					\n		\n			October 25\n\n	\n\n	  @  \n\n\n3:00 pm\n\n		\n\n\n\n	\n	  -  \n\n5:00 pm\n\n\n\n	\n				\n				\n				\n				\n									Our annual open house offers a deep dive into Sequoyah’s high school program. This special event is designed for prospective students and families to experience what it would be like to be a Sequoyah Gryphon.\n\nParticipate in sample classes\, learn about our unique modular schedule and curriculum\, and meet our students as they share their educational experience.\n\nThis event is only offered once a year\, so be sure to register to attend!								\n				\n				\n				\n									\n					\n						\n						\n							\n									Register Today\n					\n					\n				\n								\n				\n				\n				\n					\n	\n		\n\n	\n	Add to calendar	\n		\n	\n\n		\n			\n									\n	Google Calendar\n\n									\n	iCalendar\n\n									\n	Outlook 365\n\n									\n	Outlook Live\n\n							\n		\n\n		\n	\n\n				\n				\n				\n						\n					\n			\n						\n				\n					\n				\n				\n	\n	High School Campus\n	\n	\n\n301 N Orange Grove Boulevard\n	\n		\n		Pasadena\,\n\n\n	91103\n\n	United States\n\n\n\n\n	+ Google Map \n\n\n	\n					\n						\n	 \n\n\n	\n	 \n\n\n\n	\n\n\n\n		\n	\n				\n				\n					\n		\n					\n		\n				\n						\n					\n			\n						\n				\n					\n	\n		\n\n				Alum Parent Reunion	\n\n\n		\n	\n		Affording a Sequoyah Education
URL:https://sequoyahschool.org/event/2025-09-18-kindergarten-information-session-tour/
LOCATION:K-8 Campus\, 535 S Pasadena Avenue\, Pasadena\, CA\, 91105\, United States
CATEGORIES:Admissions Events,In-Person Events,K-8 Admissions Events
ORGANIZER;CN="Carolyn Stirling (K-8)":MAILTO:k-8admissions@sequoyahschool.org
END:VEVENT
BEGIN:VEVENT
DTSTART;TZID=America/Los_Angeles:20250204T180000
DTEND;TZID=America/Los_Angeles:20250204T190000
DTSTAMP:20260422T043456
CREATED:20240926T175911Z
LAST-MODIFIED:20240926T182400Z
UID:8518-1738692000-1738695600@sequoyahschool.org
SUMMARY:High School Student Panel
DESCRIPTION:« All Events\n 				\n				\n				\n				\n					This event has passed. \n				\n				\n				\n				\n					\n	High School Open House				\n				\n				\n				\n							\n			\n						\n		\n						\n				\n				\n				\n					\n		\n			October 25\n\n	\n\n	  @  \n\n\n3:00 pm\n\n		\n\n\n\n	\n	  -  \n\n5:00 pm\n\n\n\n	\n				\n				\n				\n				\n									Our annual open house offers a deep dive into Sequoyah’s high school program. This special event is designed for prospective students and families to experience what it would be like to be a Sequoyah Gryphon.\n\nParticipate in sample classes\, learn about our unique modular schedule and curriculum\, and meet our students as they share their educational experience.\n\nThis event is only offered once a year\, so be sure to register to attend!								\n				\n				\n				\n									\n					\n						\n						\n							\n									Register Today\n					\n					\n				\n								\n				\n				\n				\n					\n	\n		\n\n	\n	Add to calendar	\n		\n	\n\n		\n			\n									\n	Google Calendar\n\n									\n	iCalendar\n\n									\n	Outlook 365\n\n									\n	Outlook Live\n\n							\n		\n\n		\n	\n\n				\n				\n				\n						\n					\n			\n						\n				\n					\n				\n				\n	\n	High School Campus\n	\n	\n\n301 N Orange Grove Boulevard\n	\n		\n		Pasadena\,\n\n\n	91103\n\n	United States\n\n\n\n\n	+ Google Map \n\n\n	\n					\n						\n	 \n\n\n	\n	 \n\n\n\n	\n\n\n\n		\n	\n				\n				\n					\n		\n					\n		\n				\n						\n					\n			\n						\n				\n					\n	\n		\n\n				Alum Parent Reunion	\n\n\n		\n	\n		Affording a Sequoyah Education
URL:https://sequoyahschool.org/event/2025-02-04-high-school-student-panel/
CATEGORIES:Admissions Events,High School Admissions Events
ORGANIZER;CN="Carolyn Stirling (HS)":MAILTO:9-12admissions@sequoyahschool.org
END:VEVENT
BEGIN:VEVENT
DTSTART;TZID=America/Los_Angeles:20250123T090000
DTEND;TZID=America/Los_Angeles:20250123T223000
DTSTAMP:20260422T043456
CREATED:20240926T172704Z
LAST-MODIFIED:20250820T201354Z
UID:8506-1737622800-1737671400@sequoyahschool.org
SUMMARY:K-8 Information Session and Tour
DESCRIPTION:« All Events\n 				\n				\n				\n				\n					This event has passed. \n				\n				\n				\n				\n					\n	High School Open House				\n				\n				\n				\n							\n			\n						\n		\n						\n				\n				\n				\n					\n		\n			October 25\n\n	\n\n	  @  \n\n\n3:00 pm\n\n		\n\n\n\n	\n	  -  \n\n5:00 pm\n\n\n\n	\n				\n				\n				\n				\n									Our annual open house offers a deep dive into Sequoyah’s high school program. This special event is designed for prospective students and families to experience what it would be like to be a Sequoyah Gryphon.\n\nParticipate in sample classes\, learn about our unique modular schedule and curriculum\, and meet our students as they share their educational experience.\n\nThis event is only offered once a year\, so be sure to register to attend!								\n				\n				\n				\n									\n					\n						\n						\n							\n									Register Today\n					\n					\n				\n								\n				\n				\n				\n					\n	\n		\n\n	\n	Add to calendar	\n		\n	\n\n		\n			\n									\n	Google Calendar\n\n									\n	iCalendar\n\n									\n	Outlook 365\n\n									\n	Outlook Live\n\n							\n		\n\n		\n	\n\n				\n				\n				\n						\n					\n			\n						\n				\n					\n				\n				\n	\n	High School Campus\n	\n	\n\n301 N Orange Grove Boulevard\n	\n		\n		Pasadena\,\n\n\n	91103\n\n	United States\n\n\n\n\n	+ Google Map \n\n\n	\n					\n						\n	 \n\n\n	\n	 \n\n\n\n	\n\n\n\n		\n	\n				\n				\n					\n		\n					\n		\n				\n						\n					\n			\n						\n				\n					\n	\n		\n\n				Alum Parent Reunion	\n\n\n		\n	\n		Affording a Sequoyah Education
URL:https://sequoyahschool.org/event/2026-01-15-k8-information-session/
LOCATION:K-8 Campus\, 535 S Pasadena Avenue\, Pasadena\, CA\, 91105\, United States
CATEGORIES:Admissions Events,K-8 Admissions Events
ORGANIZER;CN="Carolyn Stirling (K-8)":MAILTO:k-8admissions@sequoyahschool.org
END:VEVENT
BEGIN:VEVENT
DTSTART;TZID=America/Los_Angeles:20241121T180000
DTEND;TZID=America/Los_Angeles:20241121T190000
DTSTAMP:20260422T043457
CREATED:20240926T174241Z
LAST-MODIFIED:20240926T183333Z
UID:8513-1732212000-1732215600@sequoyahschool.org
SUMMARY:K-8 Faculty Panel
DESCRIPTION:« All Events\n 				\n				\n				\n				\n					This event has passed. \n				\n				\n				\n				\n					\n	High School Open House				\n				\n				\n				\n							\n			\n						\n		\n						\n				\n				\n				\n					\n		\n			October 25\n\n	\n\n	  @  \n\n\n3:00 pm\n\n		\n\n\n\n	\n	  -  \n\n5:00 pm\n\n\n\n	\n				\n				\n				\n				\n									Our annual open house offers a deep dive into Sequoyah’s high school program. This special event is designed for prospective students and families to experience what it would be like to be a Sequoyah Gryphon.\n\nParticipate in sample classes\, learn about our unique modular schedule and curriculum\, and meet our students as they share their educational experience.\n\nThis event is only offered once a year\, so be sure to register to attend!								\n				\n				\n				\n									\n					\n						\n						\n							\n									Register Today\n					\n					\n				\n								\n				\n				\n				\n					\n	\n		\n\n	\n	Add to calendar	\n		\n	\n\n		\n			\n									\n	Google Calendar\n\n									\n	iCalendar\n\n									\n	Outlook 365\n\n									\n	Outlook Live\n\n							\n		\n\n		\n	\n\n				\n				\n				\n						\n					\n			\n						\n				\n					\n				\n				\n	\n	High School Campus\n	\n	\n\n301 N Orange Grove Boulevard\n	\n		\n		Pasadena\,\n\n\n	91103\n\n	United States\n\n\n\n\n	+ Google Map \n\n\n	\n					\n						\n	 \n\n\n	\n	 \n\n\n\n	\n\n\n\n		\n	\n				\n				\n					\n		\n					\n		\n				\n						\n					\n			\n						\n				\n					\n	\n		\n\n				Alum Parent Reunion	\n\n\n		\n	\n		Affording a Sequoyah Education
URL:https://sequoyahschool.org/event/2024-11-21-faculty-panel/
CATEGORIES:Admissions Events,K-8 Admissions Events
ORGANIZER;CN="Carolyn Stirling (K-8)":MAILTO:k-8admissions@sequoyahschool.org
END:VEVENT
BEGIN:VEVENT
DTSTART;TZID=America/Los_Angeles:20241108T120000
DTEND;TZID=America/Los_Angeles:20241108T130000
DTSTAMP:20260422T043457
CREATED:20240829T170223Z
LAST-MODIFIED:20241017T224133Z
UID:8391-1731067200-1731070800@sequoyahschool.org
SUMMARY:Application Process Q&A
DESCRIPTION:« All Events\n 				\n				\n				\n				\n					This event has passed. \n				\n				\n				\n				\n					\n	High School Open House				\n				\n				\n				\n							\n			\n						\n		\n						\n				\n				\n				\n					\n		\n			October 25\n\n	\n\n	  @  \n\n\n3:00 pm\n\n		\n\n\n\n	\n	  -  \n\n5:00 pm\n\n\n\n	\n				\n				\n				\n				\n									Our annual open house offers a deep dive into Sequoyah’s high school program. This special event is designed for prospective students and families to experience what it would be like to be a Sequoyah Gryphon.\n\nParticipate in sample classes\, learn about our unique modular schedule and curriculum\, and meet our students as they share their educational experience.\n\nThis event is only offered once a year\, so be sure to register to attend!								\n				\n				\n				\n									\n					\n						\n						\n							\n									Register Today\n					\n					\n				\n								\n				\n				\n				\n					\n	\n		\n\n	\n	Add to calendar	\n		\n	\n\n		\n			\n									\n	Google Calendar\n\n									\n	iCalendar\n\n									\n	Outlook 365\n\n									\n	Outlook Live\n\n							\n		\n\n		\n	\n\n				\n				\n				\n						\n					\n			\n						\n				\n					\n				\n				\n	\n	High School Campus\n	\n	\n\n301 N Orange Grove Boulevard\n	\n		\n		Pasadena\,\n\n\n	91103\n\n	United States\n\n\n\n\n	+ Google Map \n\n\n	\n					\n						\n	 \n\n\n	\n	 \n\n\n\n	\n\n\n\n		\n	\n				\n				\n					\n		\n					\n		\n				\n						\n					\n			\n						\n				\n					\n	\n		\n\n				Alum Parent Reunion	\n\n\n		\n	\n		Affording a Sequoyah Education
URL:https://sequoyahschool.org/event/2024-fall-application-process-qa/
CATEGORIES:Admissions Events,High School Admissions Events,K-8 Admissions Events
ORGANIZER;CN="Carolyn Stirling (K-8)":MAILTO:k-8admissions@sequoyahschool.org
END:VEVENT
END:VCALENDAR